BEGIN:VCALENDAR
VERSION:2.0
PRODID:-//Kidz 1st Fund - ECPv6.8.1//NONSGML v1.0//EN
CALSCALE:GREGORIAN
METHOD:PUBLISH
X-WR-CALNAME:Kidz 1st Fund
X-ORIGINAL-URL:https://www.kidz1stfund.com
X-WR-CALDESC:Events for Kidz 1st Fund
REFRESH-INTERVAL;VALUE=DURATION:PT1H
X-Robots-Tag:noindex
X-PUBLISHED-TTL:PT1H
BEGIN:VTIMEZONE
TZID:UTC
BEGIN:STANDARD
TZOFFSETFROM:+0000
TZOFFSETTO:+0000
TZNAME:UTC
DTSTART:20220101T000000
END:STANDARD
END:VTIMEZONE
BEGIN:VEVENT
DTSTART;TZID=UTC:20220915T080000
DTEND;TZID=UTC:20220915T170000
DTSTAMP:20260421T190557
CREATED:20220912T054756Z
LAST-MODIFIED:20220912T054756Z
UID:3355486-1663228800-1663261200@www.kidz1stfund.com
SUMMARY:Hill Country Classic Golf
DESCRIPTION:The Hill Country Classic Golf Tournament returns to River Place Country Club on September 15th\, 2023.  Sign up to play or sponsor at HillCountryClassic.org
URL:https://www.kidz1stfund.com/event/hill-country-classic-golf/
LOCATION:River Place Country Club Austin\, 4207 River Pl Blvd.\, Austin\, TX\, 78730\, United States
END:VEVENT
END:VCALENDAR