BEGIN:VCALENDAR
VERSION:2.0
PRODID:-//Kidz 1st Fund - ECPv6.8.1//NONSGML v1.0//EN
CALSCALE:GREGORIAN
METHOD:PUBLISH
X-ORIGINAL-URL:https://www.kidz1stfund.com
X-WR-CALDESC:Events for Kidz 1st Fund
REFRESH-INTERVAL;VALUE=DURATION:PT1H
X-Robots-Tag:noindex
X-PUBLISHED-TTL:PT1H
BEGIN:VTIMEZONE
TZID:UTC
BEGIN:STANDARD
TZOFFSETFROM:+0000
TZOFFSETTO:+0000
TZNAME:UTC
DTSTART:20220101T000000
END:STANDARD
END:VTIMEZONE
BEGIN:VEVENT
DTSTART;TZID=UTC:20220917T060000
DTEND;TZID=UTC:20220918T233000
DTSTAMP:20260421T190555
CREATED:20220912T055358Z
LAST-MODIFIED:20220912T055514Z
UID:3355490-1663394400-1663543800@www.kidz1stfund.com
SUMMARY:Oldham Goodwin Tackling Fanconi Anemia Matching Day
DESCRIPTION:Oldham Goodwin is joining Jimbo and Kidz1st Fund in tackling Fanconi anemia\, and we’re inviting you to be part of the team. Help us as we bring Aggies together this season to fight for a cure. \nYou may donate anytime this season. At three of this season’s home games\, Oldham Goodwin will match individual contributions of $500 or more to Kidz1st Fund\, up to a total of $5\,000 for each of those game weekends. The first matching weekend will be when the Aggies host the Miami Hurricanes on September 17.\nYou must use the donation form on this website on one of the designated matching game weekends for the match to occur.\nVisit JoinJimbo.com for more information \nThanks\, and gig ‘em\, Aggies!
URL:https://www.kidz1stfund.com/event/oldham-goodwin-tackling-fanconi-anemia-matching-day/
END:VEVENT
END:VCALENDAR